BEGIN:VCALENDAR
VERSION:2.0
PRODID:-//Hermandad de Jubilados  - ECPv6.7.0//NONSGML v1.0//EN
CALSCALE:GREGORIAN
METHOD:PUBLISH
X-WR-CALNAME:Hermandad de Jubilados 
X-ORIGINAL-URL:https://hermandad.smilecomunicacion.com
X-WR-CALDESC:Eventos para Hermandad de Jubilados 
REFRESH-INTERVAL;VALUE=DURATION:PT1H
X-Robots-Tag:noindex
X-PUBLISHED-TTL:PT1H
BEGIN:VTIMEZONE
TZID:UTC
BEGIN:STANDARD
TZOFFSETFROM:+0000
TZOFFSETTO:+0000
TZNAME:UTC
DTSTART:20240101T000000
END:STANDARD
END:VTIMEZONE
BEGIN:VEVENT
DTSTART;TZID=UTC:20240910T080000
DTEND;TZID=UTC:20240917T190000
DTSTAMP:20260421T155252
CREATED:20240913T105629Z
LAST-MODIFIED:20241010T135044Z
UID:10000001-1725955200-1726599600@hermandad.smilecomunicacion.com
SUMMARY:Entre corsarios\, bretones y normandos
DESCRIPTION:Recorreremos las más bellas y desconocidas regiones de Francia\nA orillas del Sena\, entre suaves colinas verdes y majestuosos acantilados\, se erigen veneradas joyas históricas. Nos embarcaremos en un recorrido por lugares monumentales y llenos de historia\, como el sagrado Mont Saint Michel\, abadías olvidadas y la imponente grandeza del Patrimonio de Bretaña. Sens y sus alrededores nos invitan a descubrir su riqueza cultural y belleza atemporal. \n  \nDía 10 de septiembre\, Madrid\, Nantes y Rennes\nSalimos de MADRID con destino NANTES. Traslado ciudad de RENNES. Acomodación en el hotel de la localidad\, ciudad la vuelta humana\, llena de encanto. Resto libre. Alojamiento. \nDía 11 de septiembre\, Rennes\, Vannes \, Carnac y Rennes\nDesayuno. Salimos hacia VANNES. En la antigüedad Recorremos el barrio de la catedral que conserva. \n► Admirablemente la fisonomía de la vieja ciudad mercado. En torno a sus antiguas murallas se conservan espléndidos jardines a la francesa. Almuerzo. Continuamos viaje hacia PONT AVEN\, la denominada “ciudad de los molineros”\, que acabaría convirtiéndose en cenáculo artístico\, germen del impresionismo. \nEn torno a la Plaza Real\, se encuentran bellas mansiones y en su museo interesantísimas obras de la escuela de PONT AVEN. Nos trasladamos\, después\, a CONCARNEAU\, importante puerto pesquero\, entre los primeros de Francia. \nEn su centro se levanta la Ville-Close\, ciudadela forti-ficada erigida en el siglo XIV\, cuyo cinturón de murallas fue reconstruido en el siglo XVII. Continuamos viaje hacia QUIMPER. Cena y alojamiento. \n  \nDía 12 de septiembre\, Quimper\, Pointe du Raz\, Locronan y Quimper\nDesayuno. Esta mañana visitamos QUIMPER\, la ciudad que mejor ha conservado la atmósfera típicamente bretona. En la ciudad destaca la catedral de San Corentin\, esbelto y temprano ejemplo de la arquitectura gótica bretona. \nTras la visita\, vamos a dedicar el día a recorrer algunos de los principales paisajes y lugares de Cornualles. POINTE DU RAZ marca uno de esos lugares desde donde se disfruta de un panorama grandioso en el que el mar se precipita sobre las atormentadas rocas. \nNuestro próximo destino es LOCRONAN\, uno de los más bellos pueblos de Francia\, un rico centro de producción de lino\, el más importante de Bretaña\, que ha sido elegido como escenario de espléndidas residencias de los siglos XV y XVIII. \nRegreso en torno a la Gran Place\, con un conjunto de casas renacentistas de granito\, y a su iglesia gótica de época renacentista\, donde se encuentran las mejores vidrieras de Bretaña. Regresamos a QUIMPER. Cena y alojamiento. \n \n  \nDía 13 de Septiembre\, Quimper\, Pleyben\, Dinany Saint Malo\nDesayuno. Salimos con destino PLEYBEN\, uno de los pueblos más interesantes del centro de la región\, gracias a su iglesia\, su calvario y su osario\, hermosos ejemplos de conjuntos parroquiales bretones de los siglos XVI y XVII. \nTras la visita\, recorremos una de las más bellas comarcas bretonas y la COSTA DE GRANITO ROSA con sus espectaculares formas. Seguimos hacia DINAN\, una de las ciudades más atractivas de BRETAÑA\, un gran puerto fluvial del estuario del Rance y una ciudad medieval bellísima por sus callejas de casas de entramado de madera. Seguimos a SAINT MALO. Cena y alojamiento. \n  \nDía 14 de septiembre\, Saint Malo\, Mont Saint Michel\, Dinan y Saint Malo\nDesayuno. Visitamos por la mañana el MONT SAINT MICHEL. Entre BRETAÑA y NORMANDÍA\, se alza la denominada octava maravilla del mundo\, la “maravilla de Occidente”. La abadía es una prodigiosa creación en piedra\, verdadera Biblia del Arte de la Edad Media. \nSobre su aislado promontorio rocoso se elevan hacia las mismas alas de Europa. Almuerzo. Continuamos nuestro viaje hacia DINAN\, que ofrece dos ciudades perfectamente diferenciadas: la alta\, fortificada\, y la baja\, puerto fluvial. Regresamos a SAINT MALO. Cena y alojamiento. \n  \n \n  \nDía 15 de Septiembre\, Saint Malo\, Playas del Desembarco y Caen\nDesayuno. Salimos hacia Tierras Normandas donde vamos a dedicar nuestra jornada a recordar el PLAYA DEL DESEMBARCO. Nombramos las playas y realizamos un recorrido por aquellos lugares que todavía conservan la memoria del día que marcó el inicio de la liberación de Europa. \nAlmuerzo\, continuamos hacia CAEN. Almuerzo y visita de la ciudad normanda. Cena y alojamiento. \n  \nDía 16 de septiembre\, Caen\, Honfleur\, Deauville y Rouen\nDesayuno. Salimos hacia HONFLEUR\, uno de los más pintorescos pueblos de la región. Su estructura urbana\, su antiguo puerto y sus casas y mansiones del XVII y XVIII\, conforman un conjunto que bien podría ser de postal. \nAlmuerzo\, continuamos nuestro viaje hacia DEAUVILLE\, célebre por sus playas y su Festival de Cine. A la caída de la tarde\, llegamos a ROUEN\, donde asistimos a una visita panorámica para descubrir su rica historia: el puerto sobre el Sena\, la Catedral\, la Plaza del Mercado Viejo\, la iglesia de San Maclou. Cena y alojamiento. \n  \nDía 17 de Septiembre\, Rouen\, París y Madrid\nDesayuno. En ROUEN\, la denominada Villa Museo\, atravesamos la catedral gótica\, admiramos la famosa catedral de Rouen inmortalizada por Monet y recorremos sus calles estrechas y su Gran Reloj\, la antigua Casa de los Gremios. Almuerzo. Tras la visita\, salimos hacia París para tomar el avión de regreso a Madrid. \n  \nEl precio incluye:\n\nBillete turista avión madrid/nantes/parís/madrid.\nAutocar moderno para el recorrido.\nGuía acompañante especialista.\nGuías locales cuando sean necesarios.\nRégimen pensión completa.\nDossier informativo – seguro – servicio de audioguías.\nTodas las visitas contempladas en el itinerario:\n\niglesia parroquial de rennes\nVisitas de Vannes\, Concarneau y Pont Aven\nPont du Raz\nIglesia de Locronan\nPleyben\nDinan\nSaint Malo\nMont Saint Michel\nPlayas del desembarco\nCaen\nSanta Teresa\nIglesia de San Maclou.\n\n\nEntradas a monumentos y museos previstas en dichas visitas.\nDossier informativo – seguro – servicio de radioguías.\nTasas aéreas y de seguridad.\n\n  \nEl precio no incluye:\n\nBebidas en las comidas.\nEntradas o cualquier otro extra no contemplado en el apartado el precio incluye.\n\n  \nDatos del viaje:\nDía y hora: 10 de Septiembre\, hora pendiente de confirmar. \nLugar de encuentro: pendiente de confirmar. \nInscripción: 11 y 12 de junio por teléfono a nuestras oficinas (91 583 50 26) \nSocio hab. Doble: 1945€ \nNo socio: 1995€ \nSuplemento habitación individual: 375€ \nSi quieres un seguro de cancelación de 50 a 2.000€\, su precio es de 40€. \n 
URL:https://hermandad.smilecomunicacion.com/actividades-2/entre-corsarios-bretones-y-normandos-eliminar
LOCATION:Comunidad de Madrid
CATEGORIES:Viajes
ATTACH;FMTTYPE=image/jpeg:https://hermandad.smilecomunicacion.com/wp-content/uploads/2024/09/entre-corsarios-bretones-normandos.jpg
ORGANIZER;CN="Hermandad de Jubilados":MAILTO:hermandad.jubilados@mineco.es
END:VEVENT
END:VCALENDAR