BEGIN:VCALENDAR
VERSION:2.0
PRODID:-//Hermandad de Jubilados  - ECPv6.7.0//NONSGML v1.0//EN
CALSCALE:GREGORIAN
METHOD:PUBLISH
X-ORIGINAL-URL:https://hermandad.smilecomunicacion.com
X-WR-CALDESC:Eventos para Hermandad de Jubilados 
REFRESH-INTERVAL;VALUE=DURATION:PT1H
X-Robots-Tag:noindex
X-PUBLISHED-TTL:PT1H
BEGIN:VTIMEZONE
TZID:UTC
BEGIN:STANDARD
TZOFFSETFROM:+0000
TZOFFSETTO:+0000
TZNAME:UTC
DTSTART:20240101T000000
END:STANDARD
END:VTIMEZONE
BEGIN:VEVENT
DTSTART;TZID=UTC:20240930T170000
DTEND;TZID=UTC:20240930T190000
DTSTAMP:20260423T155457
CREATED:20240916T082653Z
LAST-MODIFIED:20241010T135106Z
UID:10000006-1727715600-1727722800@hermandad.smilecomunicacion.com
SUMMARY:Club de música
DESCRIPTION:Nuevo viaje filarmónico\nPaloma Palacios \nDespués de este merecido descanso\, comenzamos nuestro nuevo viaje filarmónico. \nInformación sobre la actividad\nEste mes será el día 30 de septiembre a las 17:30 h en la sala 0.15 de Avda. Alberto Alcocer\, 2. La inscripción será el día 25 de septiembre. \nOs espero con mucho cariño. \nFecha: 30 de Septiembre (L) \nHora: 17:30 \nLugar: Sala 0.15. Oficinas centrales \nInscripción: 25 de Sept. (X) ​
URL:https://hermandad.smilecomunicacion.com/actividades-2/club-de-musica-eliminar
LOCATION:Oficina central\, C/ Alberto Alcocer 2\, 2ª Planta\, Madrid\, Comunidad de Madrid\, 28036\, Spain
CATEGORIES:Social
ATTACH;FMTTYPE=image/jpeg:https://hermandad.smilecomunicacion.com/wp-content/uploads/2024/09/club-de-musica.jpg
END:VEVENT
END:VCALENDAR