BEGIN:VCALENDAR
VERSION:2.0
PRODID:-//Hermandad de Jubilados  - ECPv6.7.0//NONSGML v1.0//EN
CALSCALE:GREGORIAN
METHOD:PUBLISH
X-ORIGINAL-URL:https://hermandad.smilecomunicacion.com
X-WR-CALDESC:Eventos para Hermandad de Jubilados 
REFRESH-INTERVAL;VALUE=DURATION:PT1H
X-Robots-Tag:noindex
X-PUBLISHED-TTL:PT1H
BEGIN:VTIMEZONE
TZID:UTC
BEGIN:STANDARD
TZOFFSETFROM:+0000
TZOFFSETTO:+0000
TZNAME:UTC
DTSTART:20240101T000000
END:STANDARD
END:VTIMEZONE
BEGIN:VEVENT
DTSTART;TZID=UTC:20241016T083000
DTEND;TZID=UTC:20241018T170000
DTSTAMP:20260421T142838
CREATED:20240916T091144Z
LAST-MODIFIED:20241010T135137Z
UID:10000008-1729067400-1729270800@hermandad.smilecomunicacion.com
SUMMARY:Naturaleza y relax-eliminar
DESCRIPTION:Viaje a Aragón: Monasterio de Piedra y Balneario Termas Pallarés\nLos días 16\, 17 y 18 de octubre nos acercaremos a la provincia de Aragón. Comenzaremos por el Monasterio de Piedra\, un bonito paseo disfrutando de esa maravillosa naturaleza. Almuerzo\, traslado al Balneario Termas Pallarés donde nos alojaremos; la tarde será libre para poder pasear o disfrutar del circuito termal\, cena y alojamiento. \n \n\n\n\n\n\n\n\n\n\n\n\n\n\n\n\nItinerario del Viaje\n\n\n\n\n\n\nAl día siguiente\, desayuno y salida hacia Calatayud\, una visita guiada\, un vino en el mesón de la Dolores\, regreso al Balneario\, almuerzo y tarde libre para disfrutar. Cena y alojamiento. \nEl último día\, desayuno\, salida a Santa María de Huerta (Soria) una visita a su monasterio. Terminada esta nos dirigiremos a Medinaceli\, población medieval con tiempo para pasearnos por sus calles\, vernos su arco romano\, la Plaza Mayor\, la puerta árabe. Almuerzo\, después de una relajada sobremesa regreso a Madrid. \n\nDatos del viaje\n\nPrecio aproximado\, pendiente de confirmar:\n\nSocio Habitual: Doble: 370 €\nSuplemento individual: 35 euros\n\n\nInscripción: 19 y 20 de septiembre por teléfono en nuestras oficinas (915835026).
URL:https://hermandad.smilecomunicacion.com/actividades-2/naturaleza-y-relax
LOCATION:Oficina central\, C/ Alberto Alcocer 2\, 2ª Planta\, Madrid\, Comunidad de Madrid\, 28036\, Spain
CATEGORIES:Viajes
ATTACH;FMTTYPE=image/jpeg:https://hermandad.smilecomunicacion.com/wp-content/uploads/2024/09/monasterio-de-piedra.jpg
ORGANIZER;CN="Hermandad de Jubilados":MAILTO:hermandad.jubilados@mineco.es
END:VEVENT
END:VCALENDAR