BEGIN:VCALENDAR
VERSION:2.0
PRODID:-//Hermandad de Jubilados  - ECPv6.7.0//NONSGML v1.0//EN
CALSCALE:GREGORIAN
METHOD:PUBLISH
X-WR-CALNAME:Hermandad de Jubilados 
X-ORIGINAL-URL:https://hermandad.smilecomunicacion.com
X-WR-CALDESC:Eventos para Hermandad de Jubilados 
REFRESH-INTERVAL;VALUE=DURATION:PT1H
X-Robots-Tag:noindex
X-PUBLISHED-TTL:PT1H
BEGIN:VTIMEZONE
TZID:UTC
BEGIN:STANDARD
TZOFFSETFROM:+0000
TZOFFSETTO:+0000
TZNAME:UTC
DTSTART:20240101T000000
END:STANDARD
TZID:Europe/Paris
BEGIN:DAYLIGHT
TZOFFSETFROM:+0100
TZOFFSETTO:+0200
TZNAME:CEST
DTSTART:20240331T010000
END:DAYLIGHT
BEGIN:STANDARD
TZOFFSETFROM:+0200
TZOFFSETTO:+0100
TZNAME:CET
DTSTART:20241027T010000
END:STANDARD
END:VTIMEZONE
BEGIN:VEVENT
DTSTART;TZID=UTC:20241030T110000
DTEND;TZID=UTC:20241030T130000
DTSTAMP:20260421T133902
CREATED:20241007T085442Z
LAST-MODIFIED:20241010T135204Z
UID:10000019-1730286000-1730293200@hermandad.smilecomunicacion.com
SUMMARY:Asamblea general ordinaria\, 30/10/24
DESCRIPTION:Aplazamiento de la asamblea general ordinaria\nUna vez solicitado el aplazamiento de la Asamblea General\, la nueva fecha que nos ha facilitado el Ministerio es el día 30 de octubre\, miércoles\, a las 11:00 horas en primera convocatoria y a las 11:30 h en segunda\, en la Sala B de Reuniones de los Ministerios de Hacienda y Economía\, C/ Alberto Alcocer 2\, 2ª Planta\, Madrid 28036\, con el siguiente: \nA continuación se presenta el contenido del documento correspondiente a la Asamblea General Ordinaria\, el cual detalla el orden del día y los temas a tratar durante la reunión programada. Dicho documento incluye puntos importantes como la aprobación de actas\, presentación de balances\, elección de miembros y otras propuestas relevantes para la asociación. \n \n  \nOrden del día\n1º.- Lectura y aprobación si procede del Acta de la Asamblea del 7 de junio de 2023. \n2º.- Presentación del Balance y Cuentas correspondientes al año 2023. Aprobación\, si procede\, de la Memoria y Cuentas anuales de 2023. \n3º.- Informe del Presidente y de los miembros de la Junta Directiva. Informe de los Delegados y de los miembros de las Juntas de Gobierno de las Delegaciones Territoriales. \n4º.- Presupuestos para el año 2024. \n5º.- Estudio y aprobación si procede de los asuntos propuestos ante la Junta Directiva por los Asociados —Artículo 20\, punto 3 de los Estatutos vigentes. \n6º.- Concesión de medallas de la Hermandad. \n7º.- Altas y bajas de Asociados durante el año 2023. \n8º.- Elecciones / Ratificación\, si se da el caso\, de los nombramientos de nuevos miembros de la Junta Directiva y de las Juntas de Gobierno de las Delegaciones Territoriales. \n9º.- Ruegos y preguntas. \n\nMadrid\, 25 de Abril de 2024 \nFirma del Presidente:\nFdo.: Ángel Quesada Lucas \nFirma de la Secretaria en funciones:\nFdo.: Elena Romero Casin \n\nNOTA: Los documentos contables a los que se refiere el punto 2º\, estarán a disposición de los asociados en la sede social y en horario de oficina. También se puede solicitar su documentación de la Asamblea en la Web de la Hermandad.
URL:https://hermandad.smilecomunicacion.com/actividades-2/asamblea-general-ordinaria-30-10-24-eliminar
LOCATION:Oficina central\, C/ Alberto Alcocer 2\, 2ª Planta\, Madrid\, Comunidad de Madrid\, 28036\, Spain
CATEGORIES:Asamblea de la Hermandad
ATTACH;FMTTYPE=image/jpeg:https://hermandad.smilecomunicacion.com/wp-content/uploads/2024/10/asamblea-general-ordinaria-octubre-24.jpg
END:VEVENT
BEGIN:VEVENT
DTSTART;TZID=Europe/Paris:20240924T110000
DTEND;TZID=Europe/Paris:20240924T130000
DTSTAMP:20260421T133902
CREATED:20240916T080032Z
LAST-MODIFIED:20241010T135055Z
UID:10000004-1727175600-1727182800@hermandad.smilecomunicacion.com
SUMMARY:Asamblea General Ordinaria
DESCRIPTION:Convocatoria de Asamblea General Ordinaria\nDe acuerdo con los Estatutos vigentes y por orden del Presidente se convoca a todos los Asociados a la Asamblea General Ordinaria que tendrá lugar el 24 de septiembre\, martes\, a las 11:00 horas en primera convocatoria y a las 11:30 h en segunda\, en la Sala B de Reuniones de los Ministerios de Hacienda y Economía\, C/ Alberto Alcocer 2\, 2ª Planta\, Madrid 28036\, con el siguiente: \nOrden del día\n1º.- Lectura y aprobación si procede del Acta de la Asamblea del 7 de junio de 2023. \n2º.- Presentación del Balance y Cuentas correspondientes al año 2023. Aprobación\, si procede\, de la Memoria y Cuentas de 2023. \n3º.- Informe del Presidente y de los miembros de la Junta Directiva. Informe de los Delegados y de los miembros de las Juntas de Gobierno de las Delegaciones territoriales. \n4º.- Presupuestos para el año 2024. \n5º.- Estudio y aprobación si procede de los asuntos propuestos ante la Junta Directiva por los Asociados – Artículo 20\, punto 4 de los Estatutos vigentes. \n6º.- Concesión de medallas de la Hermandad. \n7º.- Altas y bajas de Asociados durante el año 2023. \n8º.- Elecciones / Ratificación en su caso de nombramientos de nuevos miembros de la Junta Directiva y de las Juntas de Gobierno de las Delegaciones Territoriales. \n9º.- Ruegos y preguntas. \n  \nNOTA: Los documentos contables a los que se refiere el punto 2º\, están a disposición de los asociados en el local social\, en horario de oficina. También se puede consultar la documentación de la Asamblea en la Web de la Hermandad.
URL:https://hermandad.smilecomunicacion.com/actividades-2/asamblea-general-ordinaria-eliminar
LOCATION:Oficina central\, C/ Alberto Alcocer 2\, 2ª Planta\, Madrid\, Comunidad de Madrid\, 28036\, Spain
CATEGORIES:Asamblea de la Hermandad
ATTACH;FMTTYPE=image/jpeg:https://hermandad.smilecomunicacion.com/wp-content/uploads/2024/09/asamblea-general-ordinaria.jpg
END:VEVENT
END:VCALENDAR