BEGIN:VCALENDAR
VERSION:2.0
PRODID:-//Hermandad de Jubilados  - ECPv6.7.0//NONSGML v1.0//EN
CALSCALE:GREGORIAN
METHOD:PUBLISH
X-ORIGINAL-URL:https://hermandad.smilecomunicacion.com
X-WR-CALDESC:Eventos para Hermandad de Jubilados 
REFRESH-INTERVAL;VALUE=DURATION:PT1H
X-Robots-Tag:noindex
X-PUBLISHED-TTL:PT1H
BEGIN:VTIMEZONE
TZID:UTC
BEGIN:STANDARD
TZOFFSETFROM:+0000
TZOFFSETTO:+0000
TZNAME:UTC
DTSTART:20240101T000000
END:STANDARD
END:VTIMEZONE
BEGIN:VEVENT
DTSTART;TZID=UTC:20240920T110000
DTEND;TZID=UTC:20240920T140000
DTSTAMP:20260420T094505
CREATED:20240913T133447Z
LAST-MODIFIED:20241010T135050Z
UID:10000003-1726830000-1726840800@hermandad.smilecomunicacion.com
SUMMARY:Parque Forestal de Fuente Carrantona
DESCRIPTION:Senderismo por el Parque Forestal de Fuente Carrantona en Madrid\nEl Parque Forestal de Fuente Carrantona surgió de la necesidad de localizar en una parcela delimitada los ejemplares de árboles y arbustos de gran porte que\, debido a las obras de las grandes infraestructuras ejecutadas en los últimos años en la ciudad de Madrid\, tuvieron que ser desplazados de su ubicación original. \n \nEl parque forestal Fuente Carrantona: un pulmón verde recuperado para Moratalaz\nCoincidiendo con la Cuña Verde de O’Donnell\, el parque forestal Fuente Carrantona fue creado con la utilización de numerosos ejemplares arbóreos de otras lugares de la ciudad y cuenta con una superficie de 22\,57 hectáreas. \nEl parque se estableció en una antigua zona degradada y su recuperación con la replantación de los árboles ha supuesto una importante mejora medioambiental para la zona y el distrito de Moratalaz. \nDentro del parque se han instalado varias áreas de recreo para el disfrute de los ciudadanos. Paseos\, zonas de juegos infantiles y deportivas\, una lámina de agua y un itinerario botánico lo convierten en una excelente opción para disfrutar de la naturaleza. \nLas zonas de césped y arbolado frondoso invitan a la relajación\, y permiten disfrutar y llegar todos los rincones del parque. El itinerario tiene una longitud de aproximadamente 4 kilómetros y una duración de unas dos horas y media. \n  \n 
URL:https://hermandad.smilecomunicacion.com/actividades-2/parque-forestal-de-fuente-carrantona-eliminar
LOCATION:C. de la Fuente Carrantona\, 57\, Moratalaz\, 28030 Madrid\, C. de la Fuente Carrantona\, 57\, Madrid\, Comunidad de Madrid\, 28010\, Spain
CATEGORIES:Senderismo
ATTACH;FMTTYPE=image/jpeg:https://hermandad.smilecomunicacion.com/wp-content/uploads/2024/09/senderismo-en-fuente-carrantona.jpg
END:VEVENT
END:VCALENDAR