BEGIN:VCALENDAR
VERSION:2.0
PRODID:-//Hermandad de Jubilados  - ECPv6.7.0//NONSGML v1.0//EN
CALSCALE:GREGORIAN
METHOD:PUBLISH
X-ORIGINAL-URL:https://hermandad.smilecomunicacion.com
X-WR-CALDESC:Eventos para Hermandad de Jubilados 
REFRESH-INTERVAL;VALUE=DURATION:PT1H
X-Robots-Tag:noindex
X-PUBLISHED-TTL:PT1H
BEGIN:VTIMEZONE
TZID:UTC
BEGIN:STANDARD
TZOFFSETFROM:+0000
TZOFFSETTO:+0000
TZNAME:UTC
DTSTART:20240101T000000
END:STANDARD
END:VTIMEZONE
BEGIN:VEVENT
DTSTART;TZID=UTC:20241024T113000
DTEND;TZID=UTC:20241024T140000
DTSTAMP:20260420T043812
CREATED:20241004T093124Z
LAST-MODIFIED:20241010T135154Z
UID:10000017-1729769400-1729778400@hermandad.smilecomunicacion.com
SUMMARY:Visita Monasterio de las Descalzas Reales
DESCRIPTION:Uno de los espacios más emblemáticos de la ciudad de Madrid\nEl Monasterio de las Descalzas Reales se erige como uno de los espacios más emblemáticos de la ciudad de Madrid. Fundado en el año 1559\, este recinto es un auténtico tesoro histórico y artístico que a lo largo de los siglos ha servido no solo como monasterio y hogar para monjas de clausura\, sino también como museo\, ofreciendo al público la oportunidad de conocer su legado. \nSu origen se remonta a la época de Juana de Austria\, hija de Carlos I de España y hermana de Felipe II. Juana decidió consagrar su vida a la fe y fundar un lugar en el corazón de Madrid donde mujeres de la nobleza pudieran retirarse y vivir en devoción. \nEl Monasterio se construyó en el estilo plateresco\, propio de la arquitectura renacentista\, con influencias moriscas visibles en los detalles de los interiores y la decoración. Este estilo fusiona elementos góticos y renacentistas\, creando un espacio singular que se distingue por la delicadeza y armonía de sus formas. \nA primera vista\, la sobria fachada del Monasterio podría pasar desapercibida\, pero al cruzar su umbral\, se revela un mundo lleno de arte y esplendor. Las columnas de mármol de Génova en los patios principales le otorgan un aire señorial y noble. \nLos salones interiores están adornados con una impresionante colección de azulejos y yeserías que siguen la tradición morisca\, un vestigio de la fusión cultural que caracteriza la historia de España. \nVasta colección de arte religioso\nEl Monasterio alberga una vasta colección de arte religioso\, que incluye no solo cuadros de maestros de la pintura como Tiziano y Rubens\, sino también esculturas\, relicarios y belenes que datan de diferentes épocas. \nLos murales que decoran las paredes reflejan la vida y obra de figuras prominentes del catolicismo\, y los tapices cuentan historias de devoción y sacrificio. La belleza de estas obras se complementa con la atmósfera de recogimiento y serenidad que impera en todo el lugar. \nAdemás de su valor como museo\, el Monasterio sigue funcionando como convento\, lo que añade un componente de espiritualidad vivo a su rica historia. \nLa presencia de las monjas\, que todavía residen en clausura en ciertas áreas del edificio\, es un recordatorio de la misión original del lugar: ser un refugio de paz y retiro del bullicio de la vida madrileña. \nAntes de la visita\, se recomienda familiarizarse con la historia de la fundadora\, Juana de Austria\, para comprender mejor la evolución del Monasterio y su importancia. El artículo “Juana de Austria\, Fundadora de las Descalzas Reales” es un excelente punto de partida para conocer el contexto y las motivaciones que llevaron a su creación. \nEn él se narra no solo la vida de Juana\, sino también el proceso de construcción y los desafíos que enfrentó para establecer este refugio espiritual en el corazón de la capital española. \nExplorar el Monasterio de las Descalzas Reales es hacer un viaje a través de los siglos\, apreciando la intersección entre la fe\, el arte y la historia. Cada rincón del edificio guarda un pedazo de la herencia cultural de España\, y es un testimonio de cómo las tradiciones religiosas y artísticas se han entrelazado para crear un legado perdurable. \n____________ \n\nHora: Entre 11:30 y 11:45\nInscripción: 11 de Oct. (V).
URL:https://hermandad.smilecomunicacion.com/actividades-2/visita-monasterio-de-las-descalzas-reales-eliminar
LOCATION:Pl. de las Descalzas\, 3\, Centro\, 28013 Madrid\, Pl. de las Descalzas\, 3\, Madrid\, Comunidad de Madrid\, 28013\, Spain
CATEGORIES:Visitas culturales
ATTACH;FMTTYPE=image/jpeg:https://hermandad.smilecomunicacion.com/wp-content/uploads/2024/10/monasterio-descalzas-reales.jpg
END:VEVENT
END:VCALENDAR