BEGIN:VCALENDAR
VERSION:2.0
PRODID:-//Hermandad de Jubilados  - ECPv6.7.0//NONSGML v1.0//EN
CALSCALE:GREGORIAN
METHOD:PUBLISH
X-ORIGINAL-URL:https://hermandad.smilecomunicacion.com
X-WR-CALDESC:Eventos para Hermandad de Jubilados 
REFRESH-INTERVAL;VALUE=DURATION:PT1H
X-Robots-Tag:noindex
X-PUBLISHED-TTL:PT1H
BEGIN:VTIMEZONE
TZID:UTC
BEGIN:STANDARD
TZOFFSETFROM:+0000
TZOFFSETTO:+0000
TZNAME:UTC
DTSTART:20240101T000000
END:STANDARD
END:VTIMEZONE
BEGIN:VEVENT
DTSTART;TZID=UTC:20240905T113000
DTEND;TZID=UTC:20240905T140000
DTSTAMP:20260420T153204
CREATED:20240913T123351Z
LAST-MODIFIED:20241010T135038Z
UID:10000002-1725535800-1725544800@hermandad.smilecomunicacion.com
SUMMARY:Visita al Museo Nacional de Antropología
DESCRIPTION:Museo Nacional de Antropología\nEl Museo Nacional de Antropología en Madrid es el primer museo antropológico de España\, fundado en 1875 por Pedro González de Velasco\, un médico segoviano que quería albergar sus colecciones siguiendo el modelo del Museo Británico de Londres. \nEl museo\, inaugurado oficialmente el 29 de abril de 1875 por el rey Alfonso XII\, fue conocido inicialmente como “Museo Anatómico”. A lo largo de los años\, el museo y sus colecciones se expandieron gracias a donaciones\, expediciones y compras. \nEvolución y Cambios Institucionales\nTras la muerte del fundador\, el museo pasó por varias transformaciones y cambios de nombre. En 1940\, se renombró como Museo Nacional de Etnología\, reflejando un cambio en su enfoque hacia la antropología social y cultural. \nEn 1993\, recuperó su denominación original de Museo Nacional de Antropología. Actualmente\, el museo es gestionado por el Ministerio de Cultura y está ubicado en un edificio histórico diseñado por Francisco de Cubas. \n  \n\nColecciones y Exhibiciones\nAntropología Física\nLa colección de antropología física del museo incluye cráneos\, esqueletos\, momias y figuras de diferentes grupos étnicos. Destacan los cráneos deformados de Perú y Bolivia\, el esqueleto del “Gigante Extremeño” Agustín Luengo\, y varias momias andinas. \nLa colección original del Dr. Velasco de 500 cráneos ha sido complementada con numerosos objetos antropológicos a lo largo de los años. \nAsia\nLa colección asiática del museo está compuesta por piezas de Filipinas\, India y Extremo Oriente. Muchas de estas piezas proceden de la Exposición General de las Islas Filipinas de 1887. \nEntre los objetos destacados se encuentran pinturas chinas\, divinidades hinduistas de Bali y una gran variedad de piezas donadas en 1989 por Argimiro Santos Munsuri. \nLas salas de exposición permanente dedicadas a Asia fueron renovadas entre 2004 y 2008\, organizando las piezas por temas como economía\, transporte y creencias. \nEl Museo Nacional de Antropología ofrece una visión global de las culturas del mundo a través de sus extensas colecciones\, que incluyen más de 21\,000 objetos distribuidos en áreas como África\, América\, Asia y Europa.
URL:https://hermandad.smilecomunicacion.com/actividades-2/visita-al-museo-nacional-de-antropologia-eliminar
LOCATION:Visita al Museo Nacional de Antropología\, C/ Alfonso XII\, 68\, Madrid\, Comunidad de Madrid\, 28010\, Spain
CATEGORIES:Visitas culturales
ATTACH;FMTTYPE=image/jpeg:https://hermandad.smilecomunicacion.com/wp-content/uploads/2024/09/museo-antropologia.jpg
END:VEVENT
END:VCALENDAR